BEGIN:VCALENDAR
VERSION:2.0
PRODID:-//ChamberMaster//Event Calendar 2.0//EN
METHOD:PUBLISH
X-PUBLISHED-TTL:P3D
REFRESH-INTERVAL:P3D
CALSCALE:GREGORIAN
BEGIN:VEVENT
DTSTART:20160620T200000Z
DTEND:20160625T170000Z
X-MICROSOFT-CDO-ALLDAYEVENT:FALSE
SUMMARY:Summer Reading Program Events
DESCRIPTION:6/20: Teen Writing Club - 3:00 p.m.\n\n6/21:  Make-it/Take-it - 10:00-12:00\n\n          Adult Coloring - 10:00-12:00\n\n6/22:  Mother Goose & Story Times - 9 a.m.\n\n          Tween Book Club - 10:30 a.m.\n\n          Tween Book Club - 3:30 p.m.\n\n6/23:  Movie - 10:00 a.m.\n\n6/25:  Kindermusik - 9:30 a.m.\n\n          Kids' Klub - 11:00 a.m.
X-ALT-DESC;FMTTYPE=text/html:6/20: Teen Writing Club - 3:00 p.m.<br />\n6/21: &nbsp\;Make-it/Take-it - 10:00-12:00<br />\n&nbsp\;&nbsp\; &nbsp\; &nbsp\; &nbsp\; &nbsp\;Adult Coloring - 10:00-12:00<br />\n6/22: &nbsp\;Mother Goose &amp\; Story Times - 9 a.m.<br />\n&nbsp\;&nbsp\; &nbsp\; &nbsp\; &nbsp\; &nbsp\;Tween Book Club - 10:30 a.m.<br />\n&nbsp\;&nbsp\; &nbsp\; &nbsp\; &nbsp\; &nbsp\;Tween Book Club - 3:30 p.m.<br />\n6/23: &nbsp\;Movie&nbsp\;- 10:00 a.m.<br />\n6/25:&nbsp\;&nbsp\;Kindermusik&nbsp\;-&nbsp\;9:30 a.m.<br />\n&nbsp\;&nbsp\; &nbsp\; &nbsp\; &nbsp\; &nbsp\;Kids&#39\; Klub&nbsp\;-&nbsp\;11:00 a.m.
LOCATION:Frances Banta Waggoner Community Library
UID:e.1774.1408
SEQUENCE:3
DTSTAMP:20260420T134602Z
URL:https://business.dewittiowa.org/events/details/summer-reading-program-events-06-20-2016-1408
END:VEVENT

END:VCALENDAR
