BEGIN:VCALENDAR
VERSION:2.0
PRODID:-//ChamberMaster//Event Calendar 2.0//EN
METHOD:PUBLISH
X-PUBLISHED-TTL:P3D
REFRESH-INTERVAL:P3D
CALSCALE:GREGORIAN
BEGIN:VEVENT
DTSTART:20160711T200000Z
DTEND:20160715T170000Z
X-MICROSOFT-CDO-ALLDAYEVENT:FALSE
SUMMARY:Summer Reading Program Events
DESCRIPTION:11th -Teen Writing Club/3:00\n\n12th - Make-it/Take-it/10:00-12:00\n\n13th - Mother Goose & Story TImes  9:00\, Tween Book Club 10:30\, Teen Book Club 3:30\n\n14th - Family Program w. Clinton County Conservation Board 1:00\n\n15th - Movie/"Miracle" 10:00
X-ALT-DESC;FMTTYPE=text/html:11th&nbsp\;-Teen Writing Club/3:00<br />\n12th&nbsp\;-&nbsp\;Make-it/Take-it/10:00-12:00<br />\n13th&nbsp\;-&nbsp\;Mother Goose &amp\; Story TImes &nbsp\;9:00\,&nbsp\;Tween Book Club 10:30\, Teen Book Club 3:30<br />\n14th&nbsp\;-&nbsp\;Family Program w. Clinton County Conservation Board&nbsp\;1:00<br />\n15th&nbsp\;-&nbsp\;Movie/&quot\;Miracle&quot\; 10:00
LOCATION:Frances Banta Waggoner Community Library
UID:e.1774.1497
SEQUENCE:3
DTSTAMP:20260420T120858Z
URL:https://business.dewittiowa.org/events/details/summer-reading-program-events-07-11-2016-1497
END:VEVENT

END:VCALENDAR
