BEGIN:VCALENDAR
VERSION:2.0
PRODID:-//ChamberMaster//Event Calendar 2.0//EN
METHOD:PUBLISH
X-PUBLISHED-TTL:P3D
REFRESH-INTERVAL:P3D
CALSCALE:GREGORIAN
BEGIN:VEVENT
DTSTART:20160718T200000Z
DTEND:20160724T010000Z
X-MICROSOFT-CDO-ALLDAYEVENT:FALSE
SUMMARY:Summer Reading Program Events
DESCRIPTION:Monday:  Teen Writing Club 3:00 pm\n\nTuesday:  Make-it/Take-it 10:00 am -12:00 pm\n\nWednesday:  Mother Goose  9:00 am\, Story Time 9:00 am\, Tween Book Club 10:30 am\, Iowa State Insect Zoo 1:30 pm\, Teen Book Club 3:30 pm  \n\nFriday:  Movie 10:00 am\n\nSaturday:  Kindermusik 9:30\, Kids' Club 11:00 am\,  POOL PARTY 6:00 pm-8:00 pm
X-ALT-DESC;FMTTYPE=text/html:Monday: &nbsp\;Teen Writing Club 3:00 pm<br />\nTuesday: &nbsp\;Make-it/Take-it 10:00 am -12:00 pm<br />\nWednesday: &nbsp\;Mother Goose &nbsp\;9:00 am\,&nbsp\;Story Time 9:00 am\, Tween Book Club 10:30 am\, Iowa State Insect Zoo 1:30 pm\, Teen Book Club 3:30 pm &nbsp\;<br />\nFriday: &nbsp\;Movie 10:00 am<br />\nSaturday:&nbsp\; Kindermusik&nbsp\;9:30\,&nbsp\;Kids&#39\; Club 11:00 am\, &nbsp\;POOL PARTY 6:00 pm-8:00 pm
LOCATION:At the Library! 505 10th St.\, DeWitt
UID:e.1774.1501
SEQUENCE:3
DTSTAMP:20260420T104412Z
URL:https://business.dewittiowa.org/events/details/summer-reading-program-events-07-18-2016-1501
END:VEVENT

END:VCALENDAR
