BEGIN:VCALENDAR
VERSION:2.0
PRODID:-//ChamberMaster//Event Calendar 2.0//EN
METHOD:PUBLISH
X-PUBLISHED-TTL:P3D
REFRESH-INTERVAL:P3D
CALSCALE:GREGORIAN
BEGIN:VEVENT
DTSTART:20170630T150000Z
DTEND:20170630T170000Z
X-MICROSOFT-CDO-ALLDAYEVENT:FALSE
SUMMARY:Summer Reading Program Friday Morning Movie
DESCRIPTION:A movie and a snack . . . "Moana"
X-ALT-DESC;FMTTYPE=text/html:A movie and a snack . . . &quot\;Moana&quot\;
LOCATION:Frances Banta Waggoner Community Library Meeting Room 505 10th St. DeWitt\, IA 52742
UID:e.1774.3137
SEQUENCE:3
DTSTAMP:20260419T165351Z
URL:https://business.dewittiowa.org/events/details/summer-reading-program-friday-morning-movie-3137
END:VEVENT

END:VCALENDAR
