BEGIN:VCALENDAR
VERSION:2.0
PRODID:-//ChamberMaster//Event Calendar 2.0//EN
METHOD:PUBLISH
X-PUBLISHED-TTL:P3D
REFRESH-INTERVAL:P3D
CALSCALE:GREGORIAN
BEGIN:VEVENT
DTSTART:20160604T150000Z
DTEND:20160604T170000Z
X-MICROSOFT-CDO-ALLDAYEVENT:FALSE
SUMMARY:Summer Reading Program Kickoff
DESCRIPTION:There will be games and contests\, food and fun . . . plus an opportunity to register for the summer reading program!
X-ALT-DESC;FMTTYPE=text/html:There will be games and contests\, food and fun . . . plus an opportunity to register for the summer reading program!
LOCATION:Lincoln Park
UID:e.1774.1352
SEQUENCE:3
DTSTAMP:20260420T120743Z
URL:https://business.dewittiowa.org/events/details/summer-reading-program-kickoff-06-04-2016-1352
END:VEVENT

END:VCALENDAR
