BEGIN:VCALENDAR
VERSION:2.0
PRODID:-//ChamberMaster//Event Calendar 2.0//EN
METHOD:PUBLISH
X-PUBLISHED-TTL:P3D
REFRESH-INTERVAL:P3D
CALSCALE:GREGORIAN
BEGIN:VEVENT
DTSTART:20170603T150000Z
DTEND:20170603T170000Z
X-MICROSOFT-CDO-ALLDAYEVENT:FALSE
SUMMARY:Summer Reading Program Kickoff
DESCRIPTION:Bounce House\, cotton candy\, crafts\, and games PLUS register for the summer reading program
X-ALT-DESC;FMTTYPE=text/html:Bounce House\, cotton candy\, crafts\, and games PLUS register for the summer reading program
LOCATION:Lincoln Park DeWitt\, IA
UID:e.1774.3099
SEQUENCE:3
DTSTAMP:20260419T163856Z
URL:https://business.dewittiowa.org/events/details/summer-reading-program-kickoff-3099
END:VEVENT

END:VCALENDAR
