BEGIN:VCALENDAR
VERSION:2.0
PRODID:-//ChamberMaster//Event Calendar 2.0//EN
METHOD:PUBLISH
X-PUBLISHED-TTL:P3D
REFRESH-INTERVAL:P3D
CALSCALE:GREGORIAN
BEGIN:VEVENT
DTSTART:20170620T150000Z
DTEND:20170620T170000Z
X-MICROSOFT-CDO-ALLDAYEVENT:FALSE
SUMMARY:Summer Reading Program - Make-it Take-it for Kids
DESCRIPTION:A craft and a snack in the Kids' Corner
X-ALT-DESC;FMTTYPE=text/html:A craft and a snack in the Kids&#39\; Corner
LOCATION:Frances Banta Waggoner Community Library 505 10th Street DeWitt\, IA 52742
UID:e.1774.3128
SEQUENCE:3
DTSTAMP:20260419T182113Z
URL:https://business.dewittiowa.org/events/details/summer-reading-program-make-it-take-it-for-kids-3128
END:VEVENT

END:VCALENDAR
