BEGIN:VCALENDAR
VERSION:2.0
PRODID:-//ChamberMaster//Event Calendar 2.0//EN
METHOD:PUBLISH
X-PUBLISHED-TTL:P3D
REFRESH-INTERVAL:P3D
CALSCALE:GREGORIAN
BEGIN:VEVENT
DTSTART:20160827T220000Z
DTEND:20160828T000000Z
X-MICROSOFT-CDO-ALLDAYEVENT:FALSE
SUMMARY:Summer Reading Program Pool Party Re-Do
DESCRIPTION:"Pool Party Re-Do" for all kids (and their families) who finished their summer reading program reading log - - because our first one got rained out!
X-ALT-DESC;FMTTYPE=text/html:&quot\;Pool Party Re-Do&quot\; for all kids (and their families) who finished their summer reading program reading log - - because our first one got rained out!
LOCATION:DeWitt Aquatic Center 1000 14th St. DeWitt
UID:e.1774.1522
SEQUENCE:3
DTSTAMP:20260420T091919Z
URL:https://business.dewittiowa.org/events/details/summer-reading-program-pool-party-re-do-08-27-2016-1522
END:VEVENT

END:VCALENDAR
