BEGIN:VCALENDAR
VERSION:2.0
PRODID:-//ChamberMaster//Event Calendar 2.0//EN
METHOD:PUBLISH
X-PUBLISHED-TTL:P3D
REFRESH-INTERVAL:P3D
CALSCALE:GREGORIAN
BEGIN:VEVENT
DTSTART:20150822T200000Z
DTEND:20150823T010000Z
X-MICROSOFT-CDO-ALLDAYEVENT:FALSE
SUMMARY:Summer Wine Down
DESCRIPTION:Summer "Wine" Down will be held in downtown DeWitt at 13 participating merchants. Visit the stores listed in the "Grapes"\, sample great local wines\, have some snacks and get your card stamped at each place visited. Leave your completed grape card at the last business\, card will be entered in the grand drawing to be held at 7:30 pm that evening. Enjoy the music of Randall Banowetz while you wait to see if you win. Prize is a trip that involves air travel!! "Grapes" are available for purchase - 1 card $10.00 / 2 cards for $15.00 at these participating merchants: Dudley's Cottage & Gifts\, Dot's Hallmark\, THE CROSSROADS Inspired Living\, Snap Fitness\, DeWitt Travel Mart\, Heartland Cottons\, Flowers on the Side\, Graphic Elements\, A Storybook Ending\, Clinton Co. Fairgrounds\, Emma Rae's\, Family Tree\, Meant to Be with flowers.
X-ALT-DESC;FMTTYPE=text/html:Summer &quot\;Wine&quot\; Down will be held in downtown DeWitt at 13 participating merchants. Visit the stores listed in the &quot\;Grapes&quot\;\, sample great local wines\, have some snacks and get your card stamped at each place visited. Leave your completed grape card at the last business\, card will be entered in the grand drawing to be held&nbsp\;at 7:30 pm that evening. Enjoy the music of Randall Banowetz while you wait to see if you win. Prize is a trip that involves air travel!! &quot\;Grapes&quot\; are available for purchase - 1 card $10.00 / 2 cards for $15.00 at these&nbsp\;participating merchants: Dudley&#39\;s Cottage &amp\; Gifts\, Dot&#39\;s Hallmark\, THE CROSSROADS Inspired Living\, Snap Fitness\, DeWitt Travel Mart\, Heartland Cottons\, Flowers on the Side\, Graphic Elements\, A Storybook Ending\, Clinton Co. Fairgrounds\, Emma Rae&#39\;s\, Family Tree\, Meant to Be with flowers.
LOCATION:Downtown DeWitt
UID:e.1774.1002
SEQUENCE:3
DTSTAMP:20260421T043139Z
URL:https://business.dewittiowa.org/events/details/summer-wine-down-08-22-2015-1002
END:VEVENT

END:VCALENDAR
