BEGIN:VCALENDAR
VERSION:2.0
PRODID:-//ChamberMaster//Event Calendar 2.0//EN
METHOD:PUBLISH
X-PUBLISHED-TTL:P3D
REFRESH-INTERVAL:P3D
CALSCALE:GREGORIAN
BEGIN:VEVENT
DTSTART:20170824T133000Z
DTEND:20170825T010000Z
X-MICROSOFT-CDO-ALLDAYEVENT:FALSE
SUMMARY:Sun Central Tanning Salon Grand Opening
DESCRIPTION:Under new ownership! Sun Central Tanning Salon located at 1415 11th St. Suite C DeWitt\, IA 52742. We will be open from 8:30 AM to 8 PM offering light refreshments all day. Stop in and check out the new tanning salon\, new products\, special pricing\, and giveaways. Hosted by Adam & Jen Edstrom. Find us on Facebook @suncentraldewitt 563-659-8000
X-ALT-DESC;FMTTYPE=text/html:Under new ownership! Sun Central Tanning Salon located at 1415 11th St. Suite C DeWitt\, IA 52742. We will be open from 8:30 AM to 8 PM offering light refreshments all day. Stop in and check out the new tanning salon\, new products\, special pricing\, and giveaways. Hosted by Adam &amp\; Jen Edstrom. Find us on Facebook @suncentraldewitt 563-659-8000
LOCATION:1415 11st Street Suite C DeWitt\, is 52742
UID:e.1774.4213
SEQUENCE:3
DTSTAMP:20260419T140732Z
URL:https://business.dewittiowa.org/events/details/sun-central-tanning-salon-grand-opening-4213
END:VEVENT

END:VCALENDAR
