BEGIN:VCALENDAR
VERSION:2.0
PRODID:-//ChamberMaster//Event Calendar 2.0//EN
METHOD:PUBLISH
X-PUBLISHED-TTL:P3D
REFRESH-INTERVAL:P3D
CALSCALE:GREGORIAN
BEGIN:VEVENT
DTSTART:20150215T210000Z
DTEND:20150215T230000Z
X-MICROSOFT-CDO-ALLDAYEVENT:FALSE
SUMMARY:Sweet Dreams and Honky Tonks
DESCRIPTION:The Music and Lives of Hank Williams\, Loretta Lynn\, Patsy Cline and Johnny Cash. It may be impossible to crown any one performer as country music's biggest star\, but few would argue that Hank Williams\, Loretta Lynn\, Patsy Cline and Johnny Cash would all be near the top of any list. Each broke barriers and changed country and popular music forever. Sweet Dreams & Honky Tonks is a new revue that presents the best loved hits of these classic artists\, along with stories of their colorful lives.
X-ALT-DESC;FMTTYPE=text/html:The Music and Lives of Hank Williams\, Loretta Lynn\, Patsy Cline and Johnny Cash. It may be impossible to crown any one performer as country music&#39\;s biggest star\, but few would argue that Hank Williams\, Loretta Lynn\, Patsy Cline and Johnny Cash would all be near the top of any list. Each broke barriers and changed country and popular music forever. Sweet Dreams &amp\; Honky Tonks is a new revue that presents the best loved hits of these classic artists\, along with stories of their colorful lives.
LOCATION:Central Performing Arts Center\, 519 E. 11th Street\, DeWitt\, Iowa 52742\, (located on the Central School Campus)
UID:e.1774.75
SEQUENCE:3
DTSTAMP:20260421T154527Z
URL:https://business.dewittiowa.org/events/details/sweet-dreams-and-honky-tonks-02-15-2015-75
END:VEVENT

END:VCALENDAR
