BEGIN:VCALENDAR
VERSION:2.0
PRODID:-//ChamberMaster//Event Calendar 2.0//EN
METHOD:PUBLISH
X-PUBLISHED-TTL:P3D
REFRESH-INTERVAL:P3D
CALSCALE:GREGORIAN
BEGIN:VEVENT
DTSTART:20160220T210000Z
DTEND:20160221T010000Z
X-MICROSOFT-CDO-ALLDAYEVENT:FALSE
SUMMARY:Sweetheart Stroll
DESCRIPTION:Stroll through Downtown DeWitt's favorite businesses while tasting a variety of delicious wines\, sweet beverages and delectable chocolates. Purchase a heart for only $15.00 or two for $20.00. Visit each one of the 20 businesses listed on the flyer to get a chance to win an overnight stay at the Shameless Chocoholic B&B in LeClaire and a Wine Basket. ( Must be 21 to participate )
X-ALT-DESC;FMTTYPE=text/html:Stroll through Downtown DeWitt&#39\;s favorite businesses while tasting a variety of delicious wines\, sweet beverages and delectable chocolates. Purchase a heart for only $15.00 or two for $20.00. Visit each one of the 20 businesses listed on the flyer to get a chance to win an overnight stay at the Shameless Chocoholic B&amp\;B in LeClaire and a Wine Basket. ( Must be 21 to participate )
LOCATION:DeWitt\, IA
UID:e.1774.1243
SEQUENCE:3
DTSTAMP:20260420T183334Z
URL:https://business.dewittiowa.org/events/details/sweetheart-stroll-02-20-2016-1243
END:VEVENT

END:VCALENDAR
