BEGIN:VCALENDAR
VERSION:2.0
PRODID:-//ChamberMaster//Event Calendar 2.0//EN
METHOD:PUBLISH
X-PUBLISHED-TTL:P3D
REFRESH-INTERVAL:P3D
CALSCALE:GREGORIAN
BEGIN:VEVENT
DTSTART:20170331T220000Z
DTEND:20170401T010000Z
X-MICROSOFT-CDO-ALLDAYEVENT:FALSE
SUMMARY:Sympathy Card Workshop
DESCRIPTION:Come to the loft and have fun making 15 beautiful Sympathy cards. You will making 3 cards of five different designs. Enjoy meeting new people\, making beautiful cards\, and getting chances to win some awesome prizes.
X-ALT-DESC;FMTTYPE=text/html:Come to the loft and have fun making 15 beautiful Sympathy cards. You will making 3 cards of five different designs. Enjoy meeting new people\, making beautiful cards\, and getting chances to win some awesome prizes.
LOCATION:1115 6th Ave DeWitt\, IA 52742 In the garage loft
UID:e.1774.2952
SEQUENCE:3
DTSTAMP:20260419T215821Z
URL:https://business.dewittiowa.org/events/details/sympathy-card-workshop-2952
END:VEVENT

END:VCALENDAR
