BEGIN:VCALENDAR
VERSION:2.0
PRODID:-//ChamberMaster//Event Calendar 2.0//EN
METHOD:PUBLISH
X-PUBLISHED-TTL:P3D
REFRESH-INTERVAL:P3D
CALSCALE:GREGORIAN
BEGIN:VEVENT
DTSTART:20170909T150000Z
DTEND:20170909T220000Z
X-MICROSOFT-CDO-ALLDAYEVENT:FALSE
SUMMARY:Tailgate Party
DESCRIPTION:Come out and watch the Iowa/Iowa State Football Game!
X-ALT-DESC;FMTTYPE=text/html:Come out and watch the Iowa/Iowa State Football Game!
LOCATION:Springbrook Country Club
UID:e.1774.4250
SEQUENCE:3
DTSTAMP:20260419T120525Z
URL:https://business.dewittiowa.org/events/details/tailgate-party-09-09-2017-4250
END:VEVENT

END:VCALENDAR
