BEGIN:VCALENDAR
VERSION:2.0
PRODID:-//ChamberMaster//Event Calendar 2.0//EN
METHOD:PUBLISH
X-PUBLISHED-TTL:P3D
REFRESH-INTERVAL:P3D
CALSCALE:GREGORIAN
BEGIN:VEVENT
DTSTART;VALUE=DATE:20140422
DTEND;VALUE=DATE:20140423
TRANSP:TRANSPARENT
X-MICROSOFT-CDO-ALLDAYEVENT:TRUE
SUMMARY:Tall Stories "The Snail and the Whale"
DESCRIPTION:Storytelling\, live music and lots of laughs\, in a show for everyone age 4 and up.
X-ALT-DESC;FMTTYPE=text/html:Storytelling\, live music and lots of laughs\, in a show for everyone age 4 and up.
LOCATION:Central Performing Arts Center (Located in Central High School) 519 E. 11th St. DeWitt\, IA 52742
UID:e.1774.31
SEQUENCE:3
DTSTAMP:20260422T074330Z
URL:https://business.dewittiowa.org/events/details/tall-stories-the-snail-and-the-whale-04-22-2014-31
END:VEVENT

END:VCALENDAR
