BEGIN:VCALENDAR
VERSION:2.0
PRODID:-//ChamberMaster//Event Calendar 2.0//EN
METHOD:PUBLISH
X-PUBLISHED-TTL:P3D
REFRESH-INTERVAL:P3D
CALSCALE:GREGORIAN
BEGIN:VEVENT
DTSTART:20170127T230000Z
DTEND:20170128T020000Z
X-MICROSOFT-CDO-ALLDAYEVENT:FALSE
SUMMARY:TEC Center Makerspace Open House
DESCRIPTION:The TEC Center Makerspace will be hosting an open house to show people what makerspaces are about and give people an idea of the groups and tools that are available in the space. Refreshments will be available.
X-ALT-DESC;FMTTYPE=text/html:The TEC Center Makerspace will be hosting an open house to show people what makerspaces are about and give people an idea of the groups and tools that are available in the space. Refreshments will be available.
LOCATION:911 5th Ave. DeWitt\, IA 52742
UID:e.1774.1760
SEQUENCE:3
DTSTAMP:20260420T025250Z
URL:https://business.dewittiowa.org/events/details/tec-center-makerspace-open-house-1760
END:VEVENT

END:VCALENDAR
