BEGIN:VCALENDAR
VERSION:2.0
PRODID:-//ChamberMaster//Event Calendar 2.0//EN
METHOD:PUBLISH
X-PUBLISHED-TTL:P3D
REFRESH-INTERVAL:P3D
CALSCALE:GREGORIAN
BEGIN:VEVENT
DTSTART:20170816T220000Z
DTEND:20170816T230000Z
X-MICROSOFT-CDO-ALLDAYEVENT:FALSE
SUMMARY:Tech Help Hour
DESCRIPTION:Technology is suppose to make life easier. If yours isn't\, come chat with us and see if we can change that. We have free help on the first and third Wednesday of the month. If you would like to schedule an appointment outside of those times\, please message us via our facebook page: facebook.com/TECenter
X-ALT-DESC;FMTTYPE=text/html:Technology is suppose to make life easier. If yours isn&#39\;t\, come chat with us and see if we can change that. We have free help on the first and third Wednesday of the month. If you would like to schedule an appointment outside of those times\, please message us via our facebook page: facebook.com/TECenter
LOCATION:911 5th Ave Behind the Library
UID:e.1774.3208
SEQUENCE:3
DTSTAMP:20260419T133239Z
URL:https://business.dewittiowa.org/events/details/tech-help-hour-3208
END:VEVENT

END:VCALENDAR
