BEGIN:VCALENDAR
VERSION:2.0
PRODID:-//ChamberMaster//Event Calendar 2.0//EN
METHOD:PUBLISH
X-PUBLISHED-TTL:P3D
REFRESH-INTERVAL:P3D
CALSCALE:GREGORIAN
BEGIN:VEVENT
DTSTART:20170906T220000Z
DTEND:20170906T230000Z
X-MICROSOFT-CDO-ALLDAYEVENT:FALSE
SUMMARY:Tech Help Night
DESCRIPTION:We are here to help you fix your computer or smartphone problems! If you can't make it\, be sure to contact us to schedule an appointment.
X-ALT-DESC;FMTTYPE=text/html:We are here to help you fix your computer or smartphone problems! If you can&#39\;t make it\, be sure to contact us to schedule an appointment.
LOCATION:911 5th Ave (Right behind the Library)
UID:e.1774.4270
SEQUENCE:3
DTSTAMP:20260419T120222Z
URL:https://business.dewittiowa.org/events/details/tech-help-night-4270
END:VEVENT

END:VCALENDAR
