BEGIN:VCALENDAR
VERSION:2.0
PRODID:-//ChamberMaster//Event Calendar 2.0//EN
METHOD:PUBLISH
X-PUBLISHED-TTL:P3D
REFRESH-INTERVAL:P3D
CALSCALE:GREGORIAN
BEGIN:VEVENT
DTSTART:20150318T203000Z
DTEND:20150318T213000Z
X-MICROSOFT-CDO-ALLDAYEVENT:FALSE
SUMMARY:Teen Book Club
DESCRIPTION:DeWitt Central High School freshman\, Lexi Birks will be addressing the Teen Book Club.
X-ALT-DESC;FMTTYPE=text/html:DeWitt Central High School freshman\, Lexi Birks will be addressing the Teen Book Club.
LOCATION:DeWitt Library Meeting Room
UID:e.1774.333
SEQUENCE:3
DTSTAMP:20260421T124842Z
URL:https://business.dewittiowa.org/events/details/teen-book-club-03-18-2015-333
END:VEVENT

END:VCALENDAR
