BEGIN:VCALENDAR
VERSION:2.0
PRODID:-//ChamberMaster//Event Calendar 2.0//EN
METHOD:PUBLISH
X-PUBLISHED-TTL:P3D
REFRESH-INTERVAL:P3D
CALSCALE:GREGORIAN
BEGIN:VEVENT
DTSTART:20170626T200000Z
DTEND:20170626T210000Z
X-MICROSOFT-CDO-ALLDAYEVENT:FALSE
SUMMARY:Teen Book Club
DESCRIPTION:Book talk\, activities\, and snacks
X-ALT-DESC;FMTTYPE=text/html:Book talk\, activities\, and snacks
LOCATION:Frances Banta Waggoner Community Library Meeting Room 505 10th St. DeWitt\, IA 52742
UID:e.1774.3134
SEQUENCE:3
DTSTAMP:20260419T170157Z
URL:https://business.dewittiowa.org/events/details/teen-book-club-06-26-2017-3134
END:VEVENT

END:VCALENDAR
