BEGIN:VCALENDAR
VERSION:2.0
PRODID:-//ChamberMaster//Event Calendar 2.0//EN
METHOD:PUBLISH
X-PUBLISHED-TTL:P3D
REFRESH-INTERVAL:P3D
CALSCALE:GREGORIAN
BEGIN:VEVENT
DTSTART:20161019T203000Z
DTEND:20161019T213000Z
X-MICROSOFT-CDO-ALLDAYEVENT:FALSE
SUMMARY:Teen Book Club
DESCRIPTION:For Teens in 7-12th grade. Come ready to share whatever book you've been reading on your own!
X-ALT-DESC;FMTTYPE=text/html:For Teens in 7-12th grade. Come ready to share whatever book you&#39\;ve been reading on your own!
LOCATION:Frances Banta Waggoner Community Library 505 10th St. DeWitt
UID:e.1774.1602
SEQUENCE:3
DTSTAMP:20260420T061648Z
URL:https://business.dewittiowa.org/events/details/teen-book-club-10-19-2016-1602
END:VEVENT

END:VCALENDAR
