BEGIN:VCALENDAR
VERSION:2.0
PRODID:-//ChamberMaster//Event Calendar 2.0//EN
METHOD:PUBLISH
X-PUBLISHED-TTL:P3D
REFRESH-INTERVAL:P3D
CALSCALE:GREGORIAN
BEGIN:VEVENT
DTSTART:20161116T213000Z
DTEND:20161116T223000Z
X-MICROSOFT-CDO-ALLDAYEVENT:FALSE
SUMMARY:Teen Book Club
DESCRIPTION:Grades 7 - 12\; Come ready to tell us about whatever book you're reading!
X-ALT-DESC;FMTTYPE=text/html:Grades 7 - 12\; Come ready to tell us about whatever book you&#39\;re reading!
LOCATION:Frances Banta Waggoner Community Library 505 10th St. DeWitt\, IA 52742
UID:e.1774.1643
SEQUENCE:3
DTSTAMP:20260420T043618Z
URL:https://business.dewittiowa.org/events/details/teen-book-club-11-16-2016-1643
END:VEVENT

END:VCALENDAR
