BEGIN:VCALENDAR
VERSION:2.0
PRODID:-//ChamberMaster//Event Calendar 2.0//EN
METHOD:PUBLISH
X-PUBLISHED-TTL:P3D
REFRESH-INTERVAL:P3D
CALSCALE:GREGORIAN
BEGIN:VEVENT
DTSTART:20160921T203000Z
DTEND:20160921T213000Z
X-MICROSOFT-CDO-ALLDAYEVENT:FALSE
SUMMARY:Teen Book Club
DESCRIPTION:For teens in 7-12 grade. Come ready to talk about whatever book you've been reading.
X-ALT-DESC;FMTTYPE=text/html:For teens in 7-12 grade. Come ready to talk about whatever book you&#39\;ve been reading.
LOCATION:Frances Banta Waggoner Library 505 10th St. DeWitt
UID:e.1774.1601
SEQUENCE:3
DTSTAMP:20260420T074058Z
URL:https://business.dewittiowa.org/events/details/teen-book-club-1601
END:VEVENT

END:VCALENDAR
