BEGIN:VCALENDAR
VERSION:2.0
PRODID:-//ChamberMaster//Event Calendar 2.0//EN
METHOD:PUBLISH
X-PUBLISHED-TTL:P3D
REFRESH-INTERVAL:P3D
CALSCALE:GREGORIAN
BEGIN:VEVENT
DTSTART:20170710T200000Z
DTEND:20170710T210000Z
X-MICROSOFT-CDO-ALLDAYEVENT:FALSE
SUMMARY:Teen Book & Writing Club
DESCRIPTION:Book talk and writing fun for junior-senior high teens!
X-ALT-DESC;FMTTYPE=text/html:Book talk and writing fun for junior-senior high teens!
LOCATION:Meeting Room at the DeWitt Library
UID:e.1774.3173
SEQUENCE:3
DTSTAMP:20260419T153340Z
URL:https://business.dewittiowa.org/events/details/teen-book-writing-club-07-10-2017-3173
END:VEVENT

END:VCALENDAR
