BEGIN:VCALENDAR
VERSION:2.0
PRODID:-//ChamberMaster//Event Calendar 2.0//EN
METHOD:PUBLISH
X-PUBLISHED-TTL:P3D
REFRESH-INTERVAL:P3D
CALSCALE:GREGORIAN
BEGIN:VEVENT
DTSTART:20170419T203000Z
DTEND:20170419T213000Z
X-MICROSOFT-CDO-ALLDAYEVENT:FALSE
SUMMARY:Teen Book/Writing Club
DESCRIPTION:Teen Book and Writing Club combined\n\nShare books\, writing samples\, snacks\, & activities
X-ALT-DESC;FMTTYPE=text/html:Teen Book and Writing Club combined<br />\nShare books\, writing samples\, snacks\, &amp\; activities
LOCATION:DeWitt Library Meeting Room Frances Banta Waggoner Community Library 505 10th St. DeWitt\, IA
UID:e.1774.2947
SEQUENCE:3
DTSTAMP:20260419T202414Z
URL:https://business.dewittiowa.org/events/details/teen-book-writing-club-2947
END:VEVENT

END:VCALENDAR
