BEGIN:VCALENDAR
VERSION:2.0
PRODID:-//ChamberMaster//Event Calendar 2.0//EN
METHOD:PUBLISH
X-PUBLISHED-TTL:P3D
REFRESH-INTERVAL:P3D
CALSCALE:GREGORIAN
BEGIN:VEVENT
DTSTART:20170123T213000Z
DTEND:20170123T223000Z
X-MICROSOFT-CDO-ALLDAYEVENT:FALSE
SUMMARY:Teen Writing Club
DESCRIPTION:Grades 7-12th grade. Come ready to do some fun writing activities and visit with each other. Snacks provided.
X-ALT-DESC;FMTTYPE=text/html:Grades 7-12th grade. Come ready to do some fun writing activities and visit with each other. Snacks provided.
LOCATION:Library Meeting Room Frances Banta Waggoner Community Library 505 10th St. DeWitt\, IA
UID:e.1774.1740
SEQUENCE:3
DTSTAMP:20260420T014054Z
URL:https://business.dewittiowa.org/events/details/teen-writing-club-01-23-2017-1740
END:VEVENT

END:VCALENDAR
