BEGIN:VCALENDAR
VERSION:2.0
PRODID:-//ChamberMaster//Event Calendar 2.0//EN
METHOD:PUBLISH
X-PUBLISHED-TTL:P3D
REFRESH-INTERVAL:P3D
CALSCALE:GREGORIAN
BEGIN:VEVENT
DTSTART:20170206T213000Z
DTEND:20170206T223000Z
X-MICROSOFT-CDO-ALLDAYEVENT:FALSE
SUMMARY:Teen Writing Club
DESCRIPTION:Teen Writing Club at the Library (Grades 7-12).  Show up ready to listen to and share different pieces of writing.
X-ALT-DESC;FMTTYPE=text/html:Teen Writing Club at the Library (Grades 7-12). &nbsp\;Show up ready to listen to and share different pieces of writing.
LOCATION:Frances Banta Waggoner Community Library Meeting Room 505 10th St. DeWitt\, IA
UID:e.1774.1826
SEQUENCE:3
DTSTAMP:20260419T235502Z
URL:https://business.dewittiowa.org/events/details/teen-writing-club-02-06-2017-1826
END:VEVENT

END:VCALENDAR
