BEGIN:VCALENDAR
VERSION:2.0
PRODID:-//ChamberMaster//Event Calendar 2.0//EN
METHOD:PUBLISH
X-PUBLISHED-TTL:P3D
REFRESH-INTERVAL:P3D
CALSCALE:GREGORIAN
BEGIN:VEVENT
DTSTART;VALUE=DATE:20140520
DTEND;VALUE=DATE:20140521
TRANSP:TRANSPARENT
X-MICROSOFT-CDO-ALLDAYEVENT:TRUE
SUMMARY:The DeWitt Noon Lions Travelogue Series
DESCRIPTION:The Western Caribbean \n\nby Marcella Siegel\n\n \n\nCruise to a Mayan site in Tulum near Cozumel\, Mexico\, and visit Grand Cayman Island (where hurricanes have struck\, and rum is popular). The trip also includes a visit to visited Jamaica\, an island with papayas\, iguanas\, sugar cane and reggae music.
X-ALT-DESC;FMTTYPE=text/html:<p align="center" style="font-size: 12pt\; line-height: normal\; text-align: center\; margin-top: 0px\; margin-bottom: 0px\; font-family: Verdana\, Geneva\, Arial\, Helvetica\, sans-serif\; color: rgb(96\, 109\, 178)\;">&nbsp\;</p>\n\n<p align="center" style="font-size: 12pt\; line-height: normal\; text-align: center\; margin-top: 0px\; margin-bottom: 0px\; font-family: Verdana\, Geneva\, Arial\, Helvetica\, sans-serif\; color: rgb(96\, 109\, 178)\;"><span style="color:#000000\;"><span style="font-size:12px\;"><span style="font-family:verdana\;">The Western Caribbean&nbsp\;</span></span></span></p>\n\n<p align="center" style="font-size: 12pt\; line-height: normal\; text-align: center\; margin-top: 0px\; margin-bottom: 0px\; font-family: Verdana\, Geneva\, Arial\, Helvetica\, sans-serif\; color: rgb(96\, 109\, 178)\;"><span style="color:#000000\;"><span style="font-size:12px\;"><span style="font-family:verdana\;">by Marcella Siegel</span></span></span></p>\n\n<p align="center" style="font-size: 12pt\; line-height: normal\; text-align: center\; margin-top: 0px\; margin-bottom: 0px\; font-family: Verdana\, Geneva\, Arial\, Helvetica\, sans-serif\; color: rgb(96\, 109\, 178)\;">&nbsp\;</p>\n\n<p align="center" style="font-size: 12pt\; line-height: normal\; text-align: center\; margin-top: 0px\; margin-bottom: 0px\; font-family: Verdana\, Geneva\, Arial\, Helvetica\, sans-serif\; color: rgb(96\, 109\, 178)\;"><span style="color:#000000\;"><span style="font-size:12px\;"><span style="font-family:verdana\;">Cruise to a Mayan site in Tulum near Cozumel\, Mexico\, and visit Grand Cayman Island (where hurricanes have struck\, and rum is popular). The trip also includes a visit to visited Jamaica\, an island with papayas\, iguanas\, sugar cane and reggae music. &nbsp\;&nbsp\;</span></span></span></p>\n
LOCATION:Operahouse Theater 712 6th Ave. DeWitt\, IA
UID:e.1774.43
SEQUENCE:3
DTSTAMP:20260422T042243Z
URL:https://business.dewittiowa.org/events/details/the-dewitt-noon-lions-travelogue-series-05-20-2014-43
END:VEVENT

END:VCALENDAR
