BEGIN:VCALENDAR
VERSION:2.0
PRODID:-//ChamberMaster//Event Calendar 2.0//EN
METHOD:PUBLISH
X-PUBLISHED-TTL:P3D
REFRESH-INTERVAL:P3D
CALSCALE:GREGORIAN
BEGIN:VEVENT
DTSTART:20150404T000000Z
DTEND:20150404T013000Z
X-MICROSOFT-CDO-ALLDAYEVENT:FALSE
SUMMARY:The Greatest Love Story Ever Told: Jesus's Trial\, Crucifixion and Death
DESCRIPTION:The Greatest Love Story Ever Told! This will be the storytelling of Jesus's trial\, crucifixion\, and death as told by biblical storytellers of all ages. This event is co- sponsored by DeWitt United Methodist Church\, Emmaus Road Church\, and First Congregational United Church of Christ.
X-ALT-DESC;FMTTYPE=text/html:The Greatest Love Story Ever Told! This will be the storytelling of Jesus&#39\;s trial\, crucifixion\, and death as told by biblical storytellers of all ages. This event is co- sponsored by DeWitt United Methodist Church\, Emmaus Road Church\, and First Congregational United Church of Christ.
LOCATION:Central Performing Arts Center
UID:e.1774.332
SEQUENCE:3
DTSTAMP:20260421T110657Z
URL:https://business.dewittiowa.org/events/details/the-greatest-love-story-ever-told-jesus-s-trial-crucifixion-and-death-04-03-2015-332
END:VEVENT

END:VCALENDAR
