BEGIN:VCALENDAR
VERSION:2.0
PRODID:-//ChamberMaster//Event Calendar 2.0//EN
METHOD:PUBLISH
X-PUBLISHED-TTL:P3D
REFRESH-INTERVAL:P3D
CALSCALE:GREGORIAN
BEGIN:VEVENT
DTSTART:20170616T150000Z
DTEND:20170616T170000Z
X-MICROSOFT-CDO-ALLDAYEVENT:FALSE
SUMMARY:The Lego Movie
DESCRIPTION:A morning movie and a snack!
X-ALT-DESC;FMTTYPE=text/html:A morning movie and a snack!
LOCATION:Library Meeting Room Frances Banta Waggoner Community Library 505 10th St. DeWitt\, IA
UID:e.1774.3123
SEQUENCE:3
DTSTAMP:20260419T182937Z
URL:https://business.dewittiowa.org/events/details/the-lego-movie-3123
END:VEVENT

END:VCALENDAR
