BEGIN:VCALENDAR
VERSION:2.0
PRODID:-//ChamberMaster//Event Calendar 2.0//EN
METHOD:PUBLISH
X-PUBLISHED-TTL:P3D
REFRESH-INTERVAL:P3D
CALSCALE:GREGORIAN
BEGIN:VEVENT
DTSTART:20170311T190000Z
DTEND:20170311T200000Z
X-MICROSOFT-CDO-ALLDAYEVENT:FALSE
SUMMARY:The Stiletto Girls
DESCRIPTION:Come hear how Glenna West\, C. Deanne Rowe and Magnolia "Maggie" Rivers came to write the "Stiletto Anthologies" together\, how they got published\, and how you can too! Their books will also be on sale at this event.
X-ALT-DESC;FMTTYPE=text/html:Come hear how Glenna West\, C. Deanne Rowe and Magnolia &quot\;Maggie&quot\; Rivers came to write the &quot\;Stiletto Anthologies&quot\; together\, how they got published\, and how you can too! Their books will also be on sale at this event.
LOCATION:Frances Banta Waggoner Community Library 505 10th St. DeWitt IA 52742
UID:e.1774.1870
SEQUENCE:3
DTSTAMP:20260419T235227Z
URL:https://business.dewittiowa.org/events/details/the-stiletto-girls-1870
END:VEVENT

END:VCALENDAR
