BEGIN:VCALENDAR
VERSION:2.0
PRODID:-//ChamberMaster//Event Calendar 2.0//EN
METHOD:PUBLISH
X-PUBLISHED-TTL:P3D
REFRESH-INTERVAL:P3D
CALSCALE:GREGORIAN
BEGIN:VEVENT
DTSTART:20160213T160000Z
DTEND:20160213T210000Z
X-MICROSOFT-CDO-ALLDAYEVENT:FALSE
SUMMARY:Think Spring Valentine Craft/Vendor Show
DESCRIPTION:Over 25 craft and vendor tables with cash & carry items. Many Door Prizes~ plus a chance to win 1 of 4 - $25 DeWitt Chamber Bucks Gift Certificates.
X-ALT-DESC;FMTTYPE=text/html:Over 25 craft and vendor tables with cash &amp\; carry items. Many Door Prizes~ plus a chance to win 1 of 4 - $25 DeWitt Chamber Bucks Gift Certificates.
LOCATION:DeWitt Community Center
UID:e.1774.1229
SEQUENCE:3
DTSTAMP:20260420T183636Z
URL:https://business.dewittiowa.org/events/details/think-spring-valentine-craft-vendor-show-02-13-2016-1229
END:VEVENT

END:VCALENDAR
