BEGIN:VCALENDAR
VERSION:2.0
PRODID:-//ChamberMaster//Event Calendar 2.0//EN
METHOD:PUBLISH
X-PUBLISHED-TTL:P3D
REFRESH-INTERVAL:P3D
CALSCALE:GREGORIAN
BEGIN:VEVENT
DTSTART;VALUE=DATE:20170506
DTEND;VALUE=DATE:20170507
TRANSP:TRANSPARENT
X-MICROSOFT-CDO-ALLDAYEVENT:TRUE
SUMMARY:Three Person Best Shot - Springbrook Country Club
DESCRIPTION:Three Person Best Shot\n\nMay 6th - 10 AM Shotgun Start\n\nFlights based on # in attendance\n\n\n\nStick around for...\n\nKentucky Derby Party - 4:00 PM\n\nKentucky Derby Buffet - 5:30-8PM - $18\n\nLive Music by ADAM BECK - 7:00 PM - Sponsored by Will Froeschle - Edward Jones\n\nHandle Takeover by Front Street Brewery
X-ALT-DESC;FMTTYPE=text/html:Three Person Best Shot<br />\nMay 6th - 10 AM Shotgun Start<br />\nFlights based on # in attendance<br />\n<br />\nStick around for...<br />\nKentucky Derby Party - 4:00 PM<br />\nKentucky Derby Buffet - 5:30-8PM - $18<br />\nLive Music by ADAM BECK - 7:00 PM - Sponsored by Will Froeschle - Edward Jones<br />\nHandle Takeover by Front Street Brewery
LOCATION:Springbrook Country Club & Brook's Bistro 2122 17th Ave.\, DeWitt\, IA
UID:e.1774.2977
SEQUENCE:3
DTSTAMP:20260419T202430Z
URL:https://business.dewittiowa.org/events/details/three-person-best-shot-springbrook-country-club-2977
END:VEVENT

END:VCALENDAR
