BEGIN:VCALENDAR
VERSION:2.0
PRODID:-//ChamberMaster//Event Calendar 2.0//EN
METHOD:PUBLISH
X-PUBLISHED-TTL:P3D
REFRESH-INTERVAL:P3D
CALSCALE:GREGORIAN
BEGIN:VEVENT
DTSTART:20150424T170000Z
DTEND:20150424T180000Z
X-MICROSOFT-CDO-ALLDAYEVENT:FALSE
SUMMARY:Thrivent Financial Lunch and Learn
DESCRIPTION:Join us for an Economic Update on Friday April 24 at the Thrivent office in DeWitt. Lunch from Whisk Away Caf  will be served.
X-ALT-DESC;FMTTYPE=text/html:Join us for an Economic Update on Friday April 24 at the Thrivent office in DeWitt. Lunch from Whisk Away Caf&eacute\; will be served.
LOCATION:908 6th Ave.\, DeWitt
UID:e.1774.350
SEQUENCE:3
DTSTAMP:20260421T112234Z
URL:https://business.dewittiowa.org/events/details/thrivent-financial-lunch-and-learn-04-24-2015-350
END:VEVENT

END:VCALENDAR
