BEGIN:VCALENDAR
VERSION:2.0
PRODID:-//ChamberMaster//Event Calendar 2.0//EN
METHOD:PUBLISH
X-PUBLISHED-TTL:P3D
REFRESH-INTERVAL:P3D
CALSCALE:GREGORIAN
BEGIN:VEVENT
DTSTART:20141106T013000Z
DTEND:20141106T033000Z
X-MICROSOFT-CDO-ALLDAYEVENT:FALSE
SUMMARY:Tommy Dorsey Big Band Orchestra
DESCRIPTION:THE TOMMY DORSEY LEGEND IS COMING TO THE CENTRAL PERFORMING ARTS CENTER! Frank Sinatra's career blossomed with Dorsey\, and\, with Sinatra's vocals\, the band became more successful than ever. In Big Band history\, the Tommy Dorsey Orchestra is recognized as one of the best all-around dance bands. It could swing with the best of them\, and no other band could come close to Tommy's when it came to playing ballads. Tommy Dorsey\, 'The Sentimental Gentleman of Swing'\, was a master at creating warm\, sentimental\, and always musical moods - at superb dancing and listening tempos.
X-ALT-DESC;FMTTYPE=text/html:THE TOMMY DORSEY LEGEND IS COMING TO THE CENTRAL PERFORMING ARTS CENTER! Frank Sinatra&#39\;s career blossomed with Dorsey\, and\, with Sinatra&#39\;s vocals\, the band became more successful than ever. In Big Band history\, the Tommy Dorsey Orchestra is recognized as one of the best all-around dance bands. It could swing with the best of them\, and no other band could come close to Tommy&#39\;s when it came to playing ballads. Tommy Dorsey\, &#39\;The Sentimental Gentleman of Swing&#39\;\, was a master at creating warm\, sentimental\, and always musical moods - at superb dancing and listening tempos.
LOCATION:Central Performing Arts Center\, 519 E. 11th Street\, DeWitt\, Iowa 52742 (located on the Central School Campus)
UID:e.1774.72
SEQUENCE:3
DTSTAMP:20260421T190459Z
URL:https://business.dewittiowa.org/events/details/tommy-dorsey-big-band-orchestra-11-05-2014-72
END:VEVENT

END:VCALENDAR
