BEGIN:VCALENDAR
VERSION:2.0
PRODID:-//ChamberMaster//Event Calendar 2.0//EN
METHOD:PUBLISH
X-PUBLISHED-TTL:P3D
REFRESH-INTERVAL:P3D
CALSCALE:GREGORIAN
BEGIN:VEVENT
DTSTART:20140922T003000Z
DTEND:20140922T023000Z
X-MICROSOFT-CDO-ALLDAYEVENT:FALSE
SUMMARY:Tonic Sol Fa
DESCRIPTION:Although they are simply four voices and a tambourine\, Tonic Sol-fa has spent considerable time on the road carving their niche as the nation's top vocal group. In the midst of touring\, this quartet has been named one of the top five "must see" groups in America\, has been awarded numerous original song and album awards in pop\, gospel and holiday genres\, appeared on NBC's Today Show and in the pages of Newsweek magazine. Outings with Jay Leno\, Shawn Colvin\, and Garrison Keillor have propelled album sales to more than 2\,000\,000 copies (mostly sold from the back of their trailer!) and have earned the group thousands of intensely loyal fans.
X-ALT-DESC;FMTTYPE=text/html:Although they are simply four voices and a tambourine\, Tonic Sol-fa has spent considerable time on the road carving their niche as the nation&#39\;s top vocal group. In the midst of touring\, this quartet has been named one of the top five &quot\;must see&quot\; groups in America\, has been awarded numerous original song and album awards in pop\, gospel and holiday genres\, appeared on NBC&#39\;s Today Show and in the pages of Newsweek magazine. Outings with Jay Leno\, Shawn Colvin\, and Garrison Keillor have propelled album sales to more than 2\,000\,000 copies (mostly sold from the back of their trailer!) and have earned the group thousands of intensely loyal fans.
LOCATION:Central Performing Arts Center\, 519 E. 11th Street\, DeWitt\, Iowa 52742\, (located on the Central School Campus)
UID:e.1774.74
SEQUENCE:3
DTSTAMP:20260421T222139Z
URL:https://business.dewittiowa.org/events/details/tonic-sol-fa-09-21-2014-74
END:VEVENT

END:VCALENDAR
