BEGIN:VCALENDAR
VERSION:2.0
PRODID:-//ChamberMaster//Event Calendar 2.0//EN
METHOD:PUBLISH
X-PUBLISHED-TTL:P3D
REFRESH-INTERVAL:P3D
CALSCALE:GREGORIAN
BEGIN:VEVENT
DTSTART:20170806T190000Z
DTEND:20170806T220000Z
X-MICROSOFT-CDO-ALLDAYEVENT:FALSE
SUMMARY:Travis Hosette
DESCRIPTION:Come enjoy the sounds of Frank Sinatra with Travis Hosette.\n\n$5 per person\, wristbands requilred.\n\nWood fired pizza cooking from 11-5pm. Winery open 11-6pm.\n\nALL beverages to be purchased from TYCOGA
X-ALT-DESC;FMTTYPE=text/html:Come enjoy the sounds of&nbsp\;Frank Sinatra with Travis Hosette.<br />\n$5 per person\, wristbands requilred.<br />\nWood fired pizza cooking from 11-5pm. Winery open 11-6pm.<br />\nALL beverages to be purchased from TYCOGA
LOCATION:TYCOGA Vineyard & Winery 2585 195th Street Dewitt\, IA 52742
UID:e.1774.3200
SEQUENCE:3
DTSTAMP:20260419T133758Z
URL:https://business.dewittiowa.org/events/details/travis-hosette-08-06-2017-3200
END:VEVENT

END:VCALENDAR
