BEGIN:VCALENDAR
VERSION:2.0
PRODID:-//ChamberMaster//Event Calendar 2.0//EN
METHOD:PUBLISH
X-PUBLISHED-TTL:P3D
REFRESH-INTERVAL:P3D
CALSCALE:GREGORIAN
BEGIN:VEVENT
DTSTART:20170924T190000Z
DTEND:20170924T220000Z
X-MICROSOFT-CDO-ALLDAYEVENT:FALSE
SUMMARY:Travis Hosette
DESCRIPTION:Enjoy the sound of Frank Sinatra with Travis Hosette! He is absolutely incredible!\n\nYou don't want to miss this!
X-ALT-DESC;FMTTYPE=text/html:Enjoy the sound of Frank Sinatra with Travis Hosette! He is absolutely incredible!<br />\nYou don&#39\;t want to miss this!
LOCATION:TYCOGA Vineyard & Winery 2585 195th street Dewitt\, IA 52742
UID:e.1774.4265
SEQUENCE:3
DTSTAMP:20260419T133753Z
URL:https://business.dewittiowa.org/events/details/travis-hosette-09-24-2017-4265
END:VEVENT

END:VCALENDAR
