BEGIN:VCALENDAR
VERSION:2.0
PRODID:-//ChamberMaster//Event Calendar 2.0//EN
METHOD:PUBLISH
X-PUBLISHED-TTL:P3D
REFRESH-INTERVAL:P3D
CALSCALE:GREGORIAN
BEGIN:VEVENT
DTSTART:20170211T000000Z
DTEND:20170211T020000Z
X-MICROSOFT-CDO-ALLDAYEVENT:FALSE
SUMMARY:Travis Hosette
DESCRIPTION:Come enjoy a trip down memory lane listening to Travis Hosette singing Sinatra!\n\nWhat a wonderful way to spend the evening.\n\nA little early Valentine Day Fun!!\n\nWood fired pizza available for purchase.
X-ALT-DESC;FMTTYPE=text/html:Come enjoy a trip down memory lane&nbsp\;listening to Travis Hosette singing Sinatra!<br />\nWhat a wonderful way to spend the evening.<br />\nA little early Valentine Day Fun!!<br />\nWood fired pizza available for purchase.
LOCATION:TYCOGA Vineyard & Winery 2585 195th Street DeWitt\, IA 52742
UID:e.1774.1757
SEQUENCE:3
DTSTAMP:20260419T234524Z
URL:https://business.dewittiowa.org/events/details/travis-hosette-1757
END:VEVENT

END:VCALENDAR
