BEGIN:VCALENDAR
VERSION:2.0
PRODID:-//ChamberMaster//Event Calendar 2.0//EN
METHOD:PUBLISH
X-PUBLISHED-TTL:P3D
REFRESH-INTERVAL:P3D
CALSCALE:GREGORIAN
BEGIN:VEVENT
DTSTART:20151030T140000Z
DTEND:20151030T193000Z
X-MICROSOFT-CDO-ALLDAYEVENT:FALSE
SUMMARY:Trick or Treating (Preschools)
DESCRIPTION:To Downtown DeWitt Businesses:\n\n \n\nThe Creative Learning Center\, St. Joe's\, Grace Lutheran\, Ekstrand\, and Kids Business preschool programs will be trick or treating on Friday\, October 30th.  We will be coming up in the morning starting around 9:00 A.M. and in the afternoon starting around 1:00 P.M.  We will walk up and down 6th Avenue and some of the side streets.  We will try to visit as many businesses as we can.  If you see children out and about\, we would appreciate it if you could come outside to see them if possible. We will have approximately 96 children (60 in the A.M. and 36 in the P.M.) between all 5 preschools.  Thank you and have a Happy Halloween!\n\n \n\nCreative Learning Center\n\nMindy Chapman\,\n\nDirector
X-ALT-DESC;FMTTYPE=text/html:<span style="font-size:16px">To Downtown DeWitt Businesses:<br />\n&nbsp\;<br />\nThe Creative Learning Center\, St. Joe&rsquo\;s\, Grace Lutheran\, Ekstrand\, and Kids Business preschool programs will be trick or treating on Friday\, October 30<sup>th</sup>. &nbsp\;We will be coming up in the morning starting around 9:00 A.M. and in the afternoon starting around 1:00 P.M.&nbsp\; We will walk up and down 6<sup>th</sup> Avenue and some of the side streets.&nbsp\; We will try to visit as many businesses as we can.&nbsp\; If you see children out and about\, we would appreciate it if you could come outside to see them if possible. We will have approximately 96 children (60 in the A.M. and 36 in the P.M.) between all 5 preschools. &nbsp\;Thank you and have a Happy Halloween!<br />\n&nbsp\;<br />\nCreative Learning Center<br />\nMindy Chapman\,<br />\nDirector</span>
LOCATION:Downtown DeWitt
UID:e.1774.1071
SEQUENCE:3
DTSTAMP:20260421T012547Z
URL:https://business.dewittiowa.org/events/details/trick-or-treating-preschools-10-30-2015-1071
END:VEVENT

END:VCALENDAR
