BEGIN:VCALENDAR
VERSION:2.0
PRODID:-//ChamberMaster//Event Calendar 2.0//EN
METHOD:PUBLISH
X-PUBLISHED-TTL:P3D
REFRESH-INTERVAL:P3D
CALSCALE:GREGORIAN
BEGIN:VEVENT
DTSTART:20150321T230000Z
DTEND:20150322T030000Z
X-MICROSOFT-CDO-ALLDAYEVENT:FALSE
SUMMARY:Trivia Night
DESCRIPTION:Sponsored by Marketers of DeWitt. Issuing a Business Challenge for a fun night of trivia. Mulligans & Doublers available at Sign-in table. Auction items. Prizes & bragging rights to the first and second place teams. Doors open at 6 p.m. and trivia starts at 7. All proceeds go to the future promotion of DeWitt.
X-ALT-DESC;FMTTYPE=text/html:Sponsored by Marketers of DeWitt. Issuing a Business Challenge for a fun night of trivia. Mulligans &amp\; Doublers available at Sign-in table. Auction items. Prizes &amp\; bragging rights to the first and second place teams. Doors open at 6 p.m. and trivia starts at 7. All proceeds go to the future promotion of DeWitt.
LOCATION:DeWitt Fairgrounds 328 East 8th Street
UID:e.1774.323
SEQUENCE:3
DTSTAMP:20260421T123807Z
URL:https://business.dewittiowa.org/events/details/trivia-night-03-21-2015-323
END:VEVENT

END:VCALENDAR
