BEGIN:VCALENDAR
VERSION:2.0
PRODID:-//ChamberMaster//Event Calendar 2.0//EN
METHOD:PUBLISH
X-PUBLISHED-TTL:P3D
REFRESH-INTERVAL:P3D
CALSCALE:GREGORIAN
BEGIN:VEVENT
DTSTART:20160305T000000Z
DTEND:20160305T040000Z
X-MICROSOFT-CDO-ALLDAYEVENT:FALSE
SUMMARY:Trivia Night for Make it Yours Upcycle Center
DESCRIPTION:Trivia Night @ Buzzy's\n\nto benefit\n\nMake it Yours Upcycle Center\n\n(a non-profit creative reuse center)\n\nBuzzy's Tap - Welton\n\nBuffet Dinner @ 6:00 p.m.\n\nTrivia @ 7:00 p.m.\n\nBuffet - $8.00\n\nTrivia- $10.00/person (6 to 8 people per team/table)\n\nA Night of Fun with Door Prizes & Silent Auction Items\n\nStudents & Adults Welcome\n\nHelp us continue to "save the landfills one junk drawer at a time."  Money raised goes to programming such as educational classes on rethink\, reduce\, reuse\, recycle\; craft workshops for adults and kids and allows us to sell donated items at very low costs.  We thank the community for its support in 2015!\n\nCall us for more info. and to register  @ (563) 659-1505 or cell @ (563) 340-3935\n\nVisit us at 411 Main Street - Welton\n\nemail us at Makeityoursupcycle@gmail.com\n\nour website at http://www.makeityoursupcyclecenter.org\n\non Facebook at http://www.facebook.com/MakeItYoursUpcycleCenter/
X-ALT-DESC;FMTTYPE=text/html:<h1 style="text-align:center"><strong>Trivia Night @ Buzzy&#39\;s</strong></h1>\n\n<h1 style="text-align:center"><span style="color:#008080"><strong><span style="font-family:comic sans ms">to benefit<br />\nMake it Yours Upcycle Center</span></strong></span></h1>\n\n<div style="text-align:center"><span style="color:#008080"><strong>(a non-profit creative reuse center)</strong></span></div>\n\n<h2 style="text-align:center"><span style="color:#008080"><span style="font-family:comic sans ms"><strong>Buzzy&#39\;s Tap - Welton</strong></span></span></h2>\n\n<h2 style="text-align:center"><span style="color:#008080"><span style="font-family:comic sans ms"><strong>Buffet Dinner @ 6:00 p.m.<br />\nTrivia @ 7:00 p.m.</strong></span></span></h2>\n\n<h2 style="text-align:center"><span style="color:#008080"><span style="font-family:comic sans ms"><strong>Buffet - $8.00<br />\nTrivia- $10.00/person (6 to 8 people per team/table)</strong></span></span></h2>\n\n<h3 style="text-align:center"><span style="color:#008080"><span style="font-family:comic sans ms"><strong>A Night of Fun with Door Prizes &amp\; Silent Auction Items</strong></span></span></h3>\n\n<h2 style="text-align:center"><span style="color:#008080"><span style="font-family:comic sans ms"><strong>Students &amp\; Adults Welcome</strong></span></span></h2>\n\n<h3 style="text-align:center"><span style="color:#008080"><strong><span style="font-family:comic sans ms">Help us continue to &quot\;save the landfills one junk drawer at a time.&quot\; &nbsp\;Money raised goes to programming such as educational classes on rethink\, reduce\, reuse\, recycle\; craft workshops for adults and kids and allows us to sell donated items at very low costs. &nbsp\;We thank the community for its support in 2015!</span></strong></span></h3>\n\n<h3 style="text-align:center"><span style="color:#008080"><strong>Call us for more info. and to register &nbsp\;@ (563) 659-1505 or cell @ (563) 340-3935</strong></span></h3>\n\n<h2 style="text-align:center"><strong><span style="color:rgb(0\, 128\, 128)">Visit us at 411 Main Street - Welton</span></strong></h2>\n\n<h3 style="text-align:center"><strong><span style="color:#008080">email us at&nbsp\;</span><a href="mailto:Makeityoursupcycle@gmail.com?subject=Trivia%20Night%20%40%20Buzzy's">Makeityoursupcycle@gmail.com</a></strong></h3>\n\n<h3 style="text-align:center"><strong><span style="color:#008080">our website at&nbsp\;<a href="http://www.makeityoursupcyclecenter.org">http://www.makeityoursupcyclecenter.org</a></span></strong></h3>\n\n<div style="text-align:center"><span style="color:#008080"><strong>on Facebook at</strong></span>&nbsp\;<a href="http://www.facebook.com/MakeItYoursUpcycleCenter/"><strong>http://www.facebook.com/MakeItYoursUpcycleCenter/</strong></a><br />\n<br />\n<br />\n&nbsp\;</div>\n
LOCATION:Buzzy's Tap\, Welton\, Iowa
UID:e.1774.1170
SEQUENCE:3
DTSTAMP:20260420T183717Z
URL:https://business.dewittiowa.org/events/details/trivia-night-for-make-it-yours-upcycle-center-03-04-2016-1170
END:VEVENT

END:VCALENDAR
