BEGIN:VCALENDAR
VERSION:2.0
PRODID:-//ChamberMaster//Event Calendar 2.0//EN
METHOD:PUBLISH
X-PUBLISHED-TTL:P3D
REFRESH-INTERVAL:P3D
CALSCALE:GREGORIAN
BEGIN:VEVENT
DTSTART:20160402T140000Z
DTEND:20160402T180000Z
X-MICROSOFT-CDO-ALLDAYEVENT:FALSE
SUMMARY:Truelsen 5k Run/Walk Trot
DESCRIPTION:5K Run/Walk: All proceeds go to the Truelsen Family to assist with Tornado Damage. Registration will start at 8 am at Central DeWitt High School Ag Room (Entrance #22\, located across from fairgrounds next to tennis courts.) 5K will start at 9 am at the High School Silent Auction will be set up and available for bidding from 9 am-1 pm. Lunch will be available on site (HS Ag. Room/Shop/Greenhouse area) for $5 and will be serving until 1pm. Lunch will include a shredded beef sandwich\, chips\, dessert and drinks.
X-ALT-DESC;FMTTYPE=text/html:5K Run/Walk: All proceeds go to the Truelsen Family to assist with Tornado Damage. <span style="color: rgb(0\, 0\, 0)\; font-family: arial\, sans-serif\; font-size: 12.8px\; line-height: normal\;">Registration will start at&nbsp\;</span><span class="aBn" data-term="goog_1254698665" style="border-bottom-width: 1px\; border-bottom-style: dashed\; border-bottom-color: rgb(204\, 204\, 204)\; position: relative\; top: -2px\; z-index: 0\; color: rgb(0\, 0\, 0)\; font-family: arial\, sans-serif\; font-size: 12.8px\; line-height: normal\;" tabindex="0"><span class="aQJ" style="position: relative\; top: 2px\; z-index: -1\;">8 am</span></span><span style="color: rgb(0\, 0\, 0)\; font-family: arial\, sans-serif\; font-size: 12.8px\; line-height: normal\;">&nbsp\;at Central DeWitt High School Ag Room (Entrance #22\, located across from fairgrounds next to tennis courts.)&nbsp\;</span>5K will start at 9 am at the High School Silent Auction will be set up and available for bidding from 9&nbsp\;am-1 pm. Lunch will be available on site (HS Ag. Room/Shop/Greenhouse area) for $5 and will be serving until 1pm. Lunch will include a shredded beef sandwich\, chips\, dessert and drinks.
LOCATION:Central DeWitt HS Ag Room/Shop/Greenhouse
UID:e.1774.1278
SEQUENCE:3
DTSTAMP:20260420T152621Z
URL:https://business.dewittiowa.org/events/details/truelsen-5k-run-walk-trot-04-02-2016-1278
END:VEVENT

END:VCALENDAR
