BEGIN:VCALENDAR
VERSION:2.0
PRODID:-//ChamberMaster//Event Calendar 2.0//EN
METHOD:PUBLISH
X-PUBLISHED-TTL:P3D
REFRESH-INTERVAL:P3D
CALSCALE:GREGORIAN
BEGIN:VEVENT
DTSTART:20170815T230000Z
DTEND:20170816T010000Z
X-MICROSOFT-CDO-ALLDAYEVENT:FALSE
SUMMARY:Tunes In Town
DESCRIPTION:Tunes In Town\nJoin us Tuesday evenings during June\, July and August for free concerts in Lincoln Park.\n\n\n\nEach night will have a concert\, a food vendor and a special guest.\n\n\n\nThe bands play for tips and donations.\n\n\n\nTunes in Town is 6-8 PM (unless noted) and held in the Lincoln Park Band Shelter.\n\n\n\nCheck out the 2017 schedule here.
X-ALT-DESC;FMTTYPE=text/html:<h1>Tunes In Town</h1>\n<span style="color:rgb(64\, 64\, 64)\; font-family:fontinsansregular\,sans-serif\; font-size:18px">Join us Tuesday evenings during June\, July and August for free concerts in Lincoln Park.</span><br />\n<br />\n<span style="color:rgb(64\, 64\, 64)\; font-family:fontinsansregular\,sans-serif\; font-size:18px">Each night will have a concert\, a food vendor and a special guest.</span><br />\n<br />\n<span style="color:rgb(64\, 64\, 64)\; font-family:fontinsansregular\,sans-serif\; font-size:18px">The bands play for tips and donations.</span><br />\n<br />\n<span style="color:rgb(64\, 64\, 64)\; font-family:fontinsansregular\,sans-serif\; font-size:18px">Tunes in Town is 6-8 PM (unless noted) and held in the Lincoln Park Band Shelter.</span><br />\n<br />\n<span style="color:rgb(64\, 64\, 64)\; font-family:fontinsansregular\,sans-serif\; font-size:18px">Check out the 2017 schedule&nbsp\;</span><a href="http://parks.cityofdewittiowa.org/SiteContent/Documents///tunes%20schedule%20for%202017%20as%20of%203-6-17.pdf" style="box-sizing: border-box\; color: rgb(67\, 66\, 149)\; line-height: inherit\; font-family: FontinSansRegular\, sans-serif\; font-size: 18px\;">here</a><span style="color:rgb(64\, 64\, 64)\; font-family:fontinsansregular\,sans-serif\; font-size:18px">.</span>
LOCATION:DeWitt's Lincoln Park
UID:e.1774.2968
SEQUENCE:3
DTSTAMP:20260419T135126Z
URL:https://business.dewittiowa.org/events/details/tunes-in-town-08-15-2017-2968
END:VEVENT

END:VCALENDAR
