BEGIN:VCALENDAR
VERSION:2.0
PRODID:-//ChamberMaster//Event Calendar 2.0//EN
METHOD:PUBLISH
X-PUBLISHED-TTL:P3D
REFRESH-INTERVAL:P3D
CALSCALE:GREGORIAN
BEGIN:VEVENT
DTSTART:20170104T213000Z
DTEND:20170104T223000Z
X-MICROSOFT-CDO-ALLDAYEVENT:FALSE
SUMMARY:Tween Book Club
DESCRIPTION:Come ready to share a little about whatever book you've been reading! Snacks and activities provided!
X-ALT-DESC;FMTTYPE=text/html:Come ready to share a little about whatever book you&#39\;ve been reading! Snacks and activities provided!
LOCATION:Library Meeting Room Frances Banta Waggoner Community Library 505 10th St. DeWitt\, IA
UID:e.1774.1737
SEQUENCE:3
DTSTAMP:20260420T025612Z
URL:https://business.dewittiowa.org/events/details/tween-book-club-01-04-2017-1737
END:VEVENT

END:VCALENDAR
