BEGIN:VCALENDAR
VERSION:2.0
PRODID:-//ChamberMaster//Event Calendar 2.0//EN
METHOD:PUBLISH
X-PUBLISHED-TTL:P3D
REFRESH-INTERVAL:P3D
CALSCALE:GREGORIAN
BEGIN:VEVENT
DTSTART:20170201T213000Z
DTEND:20170201T223000Z
X-MICROSOFT-CDO-ALLDAYEVENT:FALSE
SUMMARY:Tween Book Club
DESCRIPTION:Tween Book Club at the Library (Grades 3-6).  Just show up ready to share whatever you've been reading.
X-ALT-DESC;FMTTYPE=text/html:Tween Book Club at the Library (Grades 3-6). &nbsp\;Just show up ready to share whatever you&#39\;ve been reading.
LOCATION:Frances Banta Waggoner Community Library Library Meeting Room 505 10th St. DeWitt\, IA
UID:e.1774.1827
SEQUENCE:3
DTSTAMP:20260420T012020Z
URL:https://business.dewittiowa.org/events/details/tween-book-club-02-01-2017-1827
END:VEVENT

END:VCALENDAR
