BEGIN:VCALENDAR
VERSION:2.0
PRODID:-//ChamberMaster//Event Calendar 2.0//EN
METHOD:PUBLISH
X-PUBLISHED-TTL:P3D
REFRESH-INTERVAL:P3D
CALSCALE:GREGORIAN
BEGIN:VEVENT
DTSTART:20170405T203000Z
DTEND:20170405T213000Z
X-MICROSOFT-CDO-ALLDAYEVENT:FALSE
SUMMARY:Tween Book Club
DESCRIPTION:Discuss books\, activities\, & snacks
X-ALT-DESC;FMTTYPE=text/html:Discuss books\, activities\, &amp\; snacks
LOCATION:DeWitt Library Meeting Room Frances Banta Waggoner Community Library 505 10th St. DeWitt\, IA
UID:e.1774.2948
SEQUENCE:3
DTSTAMP:20260419T201527Z
URL:https://business.dewittiowa.org/events/details/tween-book-club-04-05-2017-2948
END:VEVENT

END:VCALENDAR
