BEGIN:VCALENDAR
VERSION:2.0
PRODID:-//ChamberMaster//Event Calendar 2.0//EN
METHOD:PUBLISH
X-PUBLISHED-TTL:P3D
REFRESH-INTERVAL:P3D
CALSCALE:GREGORIAN
BEGIN:VEVENT
DTSTART:20161207T213000Z
DTEND:20161207T223000Z
X-MICROSOFT-CDO-ALLDAYEVENT:FALSE
SUMMARY:Tween Book Club
DESCRIPTION:Grades 3-6. Come ready to tell us about whatever book you're reading.
X-ALT-DESC;FMTTYPE=text/html:Grades 3-6. Come ready to tell us about whatever book you&#39\;re reading.
LOCATION:Frances Banta Waggoner Community Library 505 10th St. DeWitt\, IA 52742
UID:e.1774.1708
SEQUENCE:3
DTSTAMP:20260420T025549Z
URL:https://business.dewittiowa.org/events/details/tween-book-club-12-07-2016-1708
END:VEVENT

END:VCALENDAR
