BEGIN:VCALENDAR
VERSION:2.0
PRODID:-//ChamberMaster//Event Calendar 2.0//EN
METHOD:PUBLISH
X-PUBLISHED-TTL:P3D
REFRESH-INTERVAL:P3D
CALSCALE:GREGORIAN
BEGIN:VEVENT
DTSTART:20161005T203000Z
DTEND:20161005T213000Z
X-MICROSOFT-CDO-ALLDAYEVENT:FALSE
SUMMARY:Tween Book Club
DESCRIPTION:Share what you've been reading with the group and stay for activities and food!
X-ALT-DESC;FMTTYPE=text/html:Share what you&#39\;ve been reading with the group and stay for activities and food!
LOCATION:Frances Banta Waggoner Community Library 505 10th St. DeWitt
UID:e.1774.1600
SEQUENCE:3
DTSTAMP:20260420T073652Z
URL:https://business.dewittiowa.org/events/details/tween-book-club-1600
END:VEVENT

END:VCALENDAR
