BEGIN:VCALENDAR
VERSION:2.0
PRODID:-//ChamberMaster//Event Calendar 2.0//EN
METHOD:PUBLISH
X-PUBLISHED-TTL:P3D
REFRESH-INTERVAL:P3D
CALSCALE:GREGORIAN
BEGIN:VEVENT
DTSTART:20150829T003000Z
DTEND:20150829T030000Z
X-MICROSOFT-CDO-ALLDAYEVENT:FALSE
SUMMARY:TYCOGA Ballroom Dance Party
DESCRIPTION:This is a fun event come show off your dance moves\, learn a little & just have fun. ALL PROCEEDS TO GO TO SERVE HAITI!!! You are welcome to bring a snack to share\, if you wish. All drinks to be purchased from TYCOGA Winery.
X-ALT-DESC;FMTTYPE=text/html:This is a fun event come show off your dance moves\, learn a little &amp\; just have fun. <strong>ALL PROCEEDS TO GO TO SERVE HAITI!!! </strong>You are welcome to bring a snack to share\, if you wish. All drinks to be purchased from TYCOGA Winery.
LOCATION:TYCOGA Winery 2585 195th Street Dewitt\, IA 52742
UID:e.1774.998
SEQUENCE:3
DTSTAMP:20260421T044538Z
URL:https://business.dewittiowa.org/events/details/tycoga-ballroom-dance-party-08-28-2015-998
END:VEVENT

END:VCALENDAR
